BEGIN:VCALENDAR
VERSION:2.0
PRODID:-//Unga Reumatiker - ECPv6.15.15//NONSGML v1.0//EN
CALSCALE:GREGORIAN
METHOD:PUBLISH
X-WR-CALNAME:Unga Reumatiker
X-ORIGINAL-URL:https://ungareumatiker.se
X-WR-CALDESC:Händelser för Unga Reumatiker
REFRESH-INTERVAL;VALUE=DURATION:PT1H
X-Robots-Tag:noindex
X-PUBLISHED-TTL:PT1H
BEGIN:VTIMEZONE
TZID:Europe/Stockholm
BEGIN:DAYLIGHT
TZOFFSETFROM:+0100
TZOFFSETTO:+0200
TZNAME:CEST
DTSTART:20210328T010000
END:DAYLIGHT
BEGIN:STANDARD
TZOFFSETFROM:+0200
TZOFFSETTO:+0100
TZNAME:CET
DTSTART:20211031T010000
END:STANDARD
BEGIN:DAYLIGHT
TZOFFSETFROM:+0100
TZOFFSETTO:+0200
TZNAME:CEST
DTSTART:20220327T010000
END:DAYLIGHT
BEGIN:STANDARD
TZOFFSETFROM:+0200
TZOFFSETTO:+0100
TZNAME:CET
DTSTART:20221030T010000
END:STANDARD
BEGIN:DAYLIGHT
TZOFFSETFROM:+0100
TZOFFSETTO:+0200
TZNAME:CEST
DTSTART:20230326T010000
END:DAYLIGHT
BEGIN:STANDARD
TZOFFSETFROM:+0200
TZOFFSETTO:+0100
TZNAME:CET
DTSTART:20231029T010000
END:STANDARD
END:VTIMEZONE
BEGIN:VEVENT
DTSTART;VALUE=DATE:20221109
DTEND;VALUE=DATE:20221110
DTSTAMP:20260421T184357
CREATED:20221024T093849Z
LAST-MODIFIED:20221024T093849Z
UID:7574-1667952000-1668038399@ungareumatiker.se
SUMMARY:Sista dagen att anmäla sig till Riksstämmoskolan
DESCRIPTION:Alla ombud till Riksstämman kan anmäla sig till en digital utbildning för att förbereda sig inför Riksstämman 18-20 november. \nVi kommer gå igenom krångliga ord\, hur du gör när du ska rösta\, begära ordet eller lägga ett yrkande. Vi kommer också svara på dina frågor inför stämman. \nMejla kansliet på kansliet@ungareumatiker.se om du är ombud men inte hittar länken! \n 
URL:https://ungareumatiker.se/handelser/sista-dagen-att-anmala-sig-till-riksstammoskolan/
END:VEVENT
BEGIN:VEVENT
DTSTART;TZID=Europe/Stockholm:20221110T180000
DTEND;TZID=Europe/Stockholm:20221110T200000
DTSTAMP:20260421T184357
CREATED:20220916T174740Z
LAST-MODIFIED:20220916T174740Z
UID:7421-1668103200-1668110400@ungareumatiker.se
SUMMARY:Riksstämmoskola
DESCRIPTION:
URL:https://ungareumatiker.se/handelser/riksstammoskola/
LOCATION:Zoom
END:VEVENT
BEGIN:VEVENT
DTSTART;VALUE=DATE:20221111
DTEND;VALUE=DATE:20221114
DTSTAMP:20260421T184357
CREATED:20220915T120944Z
LAST-MODIFIED:20220915T120944Z
UID:7413-1668124800-1668383999@ungareumatiker.se
SUMMARY:Småbarnsläger (0-6 år)\, Tollare folkhögskola\, Stockholm
DESCRIPTION:
URL:https://ungareumatiker.se/handelser/smabarnslager-0-6-ar-tollare-folkhogskola-stockholm/
END:VEVENT
BEGIN:VEVENT
DTSTART;VALUE=DATE:20221118
DTEND;VALUE=DATE:20221121
DTSTAMP:20260421T184357
CREATED:20220915T121048Z
LAST-MODIFIED:20220915T121048Z
UID:7415-1668729600-1668988799@ungareumatiker.se
SUMMARY:Riksstämma\, Viskadalens folkhögskola\, Borås
DESCRIPTION:
URL:https://ungareumatiker.se/handelser/riksstamma-viskadalens-folkhogskola-boras/
END:VEVENT
END:VCALENDAR