BEGIN:VCALENDAR
VERSION:2.0
PRODID:-//Unga Reumatiker - ECPv6.15.15//NONSGML v1.0//EN
CALSCALE:GREGORIAN
METHOD:PUBLISH
X-WR-CALNAME:Unga Reumatiker
X-ORIGINAL-URL:https://ungareumatiker.se
X-WR-CALDESC:Händelser för Unga Reumatiker
REFRESH-INTERVAL;VALUE=DURATION:PT1H
X-Robots-Tag:noindex
X-PUBLISHED-TTL:PT1H
BEGIN:VTIMEZONE
TZID:Europe/Stockholm
BEGIN:DAYLIGHT
TZOFFSETFROM:+0100
TZOFFSETTO:+0200
TZNAME:CEST
DTSTART:20210328T010000
END:DAYLIGHT
BEGIN:STANDARD
TZOFFSETFROM:+0200
TZOFFSETTO:+0100
TZNAME:CET
DTSTART:20211031T010000
END:STANDARD
BEGIN:DAYLIGHT
TZOFFSETFROM:+0100
TZOFFSETTO:+0200
TZNAME:CEST
DTSTART:20220327T010000
END:DAYLIGHT
BEGIN:STANDARD
TZOFFSETFROM:+0200
TZOFFSETTO:+0100
TZNAME:CET
DTSTART:20221030T010000
END:STANDARD
BEGIN:DAYLIGHT
TZOFFSETFROM:+0100
TZOFFSETTO:+0200
TZNAME:CEST
DTSTART:20230326T010000
END:DAYLIGHT
BEGIN:STANDARD
TZOFFSETFROM:+0200
TZOFFSETTO:+0100
TZNAME:CET
DTSTART:20231029T010000
END:STANDARD
BEGIN:DAYLIGHT
TZOFFSETFROM:+0100
TZOFFSETTO:+0200
TZNAME:CEST
DTSTART:20240331T010000
END:DAYLIGHT
BEGIN:STANDARD
TZOFFSETFROM:+0200
TZOFFSETTO:+0100
TZNAME:CET
DTSTART:20241027T010000
END:STANDARD
END:VTIMEZONE
BEGIN:VEVENT
DTSTART;VALUE=DATE:20221216
DTEND;VALUE=DATE:20230110
DTSTAMP:20260421T154251
CREATED:20221201T092152Z
LAST-MODIFIED:20221201T092152Z
UID:7761-1671148800-1673308799@ungareumatiker.se
SUMMARY:Vinterstängt på kansliet
DESCRIPTION:Kansliet har stängt mellan 16 december 2022 till 9 januari 2023
URL:https://ungareumatiker.se/handelser/vinterstangt-pa-kansliet/
LOCATION:Kansliet\, Arenavägen 47\, Stockholm\, 121 77\, Sverige
END:VEVENT
BEGIN:VEVENT
DTSTART;TZID=Europe/Stockholm:20230121T150000
DTEND;TZID=Europe/Stockholm:20230122T110000
DTSTAMP:20260421T154251
CREATED:20221201T093127Z
LAST-MODIFIED:20221201T093137Z
UID:7764-1674313200-1674385200@ungareumatiker.se
SUMMARY:Spahelg på Söderköping Brunn med Unga Reumatiker Region Öst
DESCRIPTION:Unga Reumatiker Region Öst arrangerar en spahelg på Söderköping Brunn. OBS! Det finns begränsat antal platser. \nDu som är medlem och är född 2005 eller tidigare kan anmäla dig till aktiviteten. \nAktiviteten är mellan lördag 21/1 kl. 15:00 till söndag 22/1 kl. 11:00. Under helgen kommer ni äta trerättersmiddag\, spendera tid på hotellets spaavdelning\, övernatta och avslutas med frukostbuffé innan avresa. \nDu anmäler dig genom att mejla till regionost@ungareumatiker.se\, i anmälan uppger du personnummer\, eventuella allergier/specialkost och var du reser ifrån. \nAktiviteten är gratis och det kommer finnas möjlighet att söka om ersättning för resa till och från destinationen i efterhand.
URL:https://ungareumatiker.se/handelser/spahelg-pa-soderkoping-brunn-med-unga-reumatiker-region-ost/
END:VEVENT
BEGIN:VEVENT
DTSTART;VALUE=DATE:20230127
DTEND;VALUE=DATE:20230128
DTSTAMP:20260421T154251
CREATED:20221201T093842Z
LAST-MODIFIED:20221201T093842Z
UID:7769-1674777600-1674863999@ungareumatiker.se
SUMMARY:Sista anmälningsdagen till den digitala föreläsningen av reumatologen Helena Tydén med Unga Reumatiker Region Öst
DESCRIPTION:Du anmäler dig genom att mejla till regionost@ungareumatiker.se och uppge då namn och personnummer. \nDu kan läsa mer: Digital föreläsning med reumatologen Helena Tydén och Unga Reumatiker Region Öst – Unga Reumatiker
URL:https://ungareumatiker.se/handelser/sista-anmalningsdagen-till-den-digitala-forelasningen-av-reumatologen-helena-tyden-med-unga-reumatiker-region-ost/
LOCATION:Digitalt
ORGANIZER;CN="Unga Reumatiker Region %C3%96st":MAILTO:regionost@ungareumatiker.se
END:VEVENT
BEGIN:VEVENT
DTSTART;TZID=Europe/Stockholm:20230129T100000
DTEND;TZID=Europe/Stockholm:20230129T120000
DTSTAMP:20260421T154251
CREATED:20221201T093655Z
LAST-MODIFIED:20221201T093655Z
UID:7767-1674986400-1674993600@ungareumatiker.se
SUMMARY:Digital föreläsning med reumatologen Helena Tydén och Unga Reumatiker Region Öst
DESCRIPTION:Unga Reumatiker Region Öst arrangerar en digital föreläsning med reumatologen Helena Tydén.\nHelena kommer att berätta om sin forskningsstudie (PROOF)\, om omhändertagandet av patienter med juvenil artrit.\nI slutet av föreläsningen kommer det finnas möjlighet att ställa frågor eller dela med sig av sina funderingar. \nAlla medlemmar i Unga Reumatiker är välkomna\, även om du tillhör en annan region! \nDu anmäler dig genom att mejla till regionost@ungareumatiker.se och uppge då namn och personnummer. \nVarmt välkomna!
URL:https://ungareumatiker.se/handelser/digital-forelasning-med-reumatologen-helena-tyden-och-unga-reumatiker-region-ost/
LOCATION:Digitalt
ORGANIZER;CN="Unga Reumatiker Region %C3%96st":MAILTO:regionost@ungareumatiker.se
END:VEVENT
END:VCALENDAR