BEGIN:VCALENDAR
VERSION:2.0
PRODID:-//Unga Reumatiker - ECPv6.15.15//NONSGML v1.0//EN
CALSCALE:GREGORIAN
METHOD:PUBLISH
X-WR-CALNAME:Unga Reumatiker
X-ORIGINAL-URL:https://ungareumatiker.se
X-WR-CALDESC:Händelser för Unga Reumatiker
REFRESH-INTERVAL;VALUE=DURATION:PT1H
X-Robots-Tag:noindex
X-PUBLISHED-TTL:PT1H
BEGIN:VTIMEZONE
TZID:Europe/Stockholm
BEGIN:DAYLIGHT
TZOFFSETFROM:+0100
TZOFFSETTO:+0200
TZNAME:CEST
DTSTART:20220327T010000
END:DAYLIGHT
BEGIN:STANDARD
TZOFFSETFROM:+0200
TZOFFSETTO:+0100
TZNAME:CET
DTSTART:20221030T010000
END:STANDARD
BEGIN:DAYLIGHT
TZOFFSETFROM:+0100
TZOFFSETTO:+0200
TZNAME:CEST
DTSTART:20230326T010000
END:DAYLIGHT
BEGIN:STANDARD
TZOFFSETFROM:+0200
TZOFFSETTO:+0100
TZNAME:CET
DTSTART:20231029T010000
END:STANDARD
BEGIN:DAYLIGHT
TZOFFSETFROM:+0100
TZOFFSETTO:+0200
TZNAME:CEST
DTSTART:20240331T010000
END:DAYLIGHT
BEGIN:STANDARD
TZOFFSETFROM:+0200
TZOFFSETTO:+0100
TZNAME:CET
DTSTART:20241027T010000
END:STANDARD
END:VTIMEZONE
BEGIN:VEVENT
DTSTART;VALUE=DATE:20230304
DTEND;VALUE=DATE:20230305
DTSTAMP:20260421T123837
CREATED:20221201T095724Z
LAST-MODIFIED:20230213T094114Z
UID:7778-1677888000-1677974399@ungareumatiker.se
SUMMARY:Årsmöte - Unga Reumatiker Region Väst
DESCRIPTION:Välkomna på Unga Reumatiker Region Västs årsmöte den 4 mars 2023!\nVi bjuder på fika och lunch. Meddela ev. allergier och specialkost så vi kan inhandla rätt fika.\nÅrsmötet börjar kl. 11.00 och beräknas pågå i två timmar. Efter årsmötet finns det möjlighet att vara kvar och umgås\, allmänt prata eller spela spel.\nDet finns möjlighet att få reseersättning – utbetalning sker så fort vi fått tillgång till vårt konto på banken. \nPlats: Reumatikerföreningens lokal i Skövde\nAdress: Mariestadsvägen 101 B\, 541 39 Skövde \nAnmäl dig genom att mejla till: regionvast@ungareumatiker.se \nI anmälan skriver du:\nDitt för- och efternamn\, annan information som är viktig för oss att veta\, om du vill kandidera till någon post och om du vill lämna in en motion (ett förslag). \nHar du frågor kan du mejla till regionvast@ungareumatiker.se
URL:https://ungareumatiker.se/handelser/arsmote-unga-reumatiker-region-vast/
LOCATION:Reumatikerföreningens lokal i Skövde\, Mariestadsvägen 101 B\, Skövde\, Skövde\, 54139
ORGANIZER;CN="Unga Reumatiker Region V%C3%A4st":MAILTO:regionvast@ungareumatiker.se
END:VEVENT
BEGIN:VEVENT
DTSTART;TZID=Europe/Stockholm:20230305T080000
DTEND;TZID=Europe/Stockholm:20230305T170000
DTSTAMP:20260421T123837
CREATED:20230126T095154Z
LAST-MODIFIED:20230213T121740Z
UID:7945-1678003200-1678035600@ungareumatiker.se
SUMMARY:Årsmöte Unga Reumatiker Region Syd
DESCRIPTION:Välkomna på Unga Reumatiker Region Syds årsmöte den 5 mars 2023!\nVi bjuder på fika och lunch. Meddela ev. allergier och specialkost så vi kan inhandla rätt fika.\nVi börjar med att äta lunch tillsammans kl. 11.30. Årsmötet börjar kl. 13.00 och beräknas pågå i två timmar. Efter årsmötet finns det möjlighet att vara kvar och umgås\, allmänt prata eller spela spel. Dagen beräknas vara klar 17.00. Det finns möjlighet att få reseersättning – utbetalning sker så fort vi fått tillgång till vårt konto på banken. \nPlats: Malmö\, Föreningen Paraplyet på Industrigatan 33 \nAnmäl dig genom att klicka här och fylla i formuläret! \nHar du frågor kan du mejla till regionsyd@ungareumatiker.se
URL:https://ungareumatiker.se/handelser/arsmote-unga-reumatiker-region-syd/
LOCATION:Föreningen Paraplyet\, Industrigatan 33\, Malmö\, Malmö\, Sverige
ORGANIZER;CN="Unga Reumatiker Region Syd":MAILTO:regionsyd@ungareumatiker.se
END:VEVENT
BEGIN:VEVENT
DTSTART;VALUE=DATE:20230311
DTEND;VALUE=DATE:20230313
DTSTAMP:20260421T123837
CREATED:20221201T095903Z
LAST-MODIFIED:20230213T122717Z
UID:7780-1678492800-1678665599@ungareumatiker.se
SUMMARY:Årsmöte - Unga Reumatiker Region Öst
DESCRIPTION:Välkomna på Unga Reumatiker Region Östs årsmöte den 11-12 mars 2023!\n\n Årsmöte den 11-12 mars i Västerås! \n\n\nDu är kallad till årsmöte den 11-12 mars. Årsmötet hålls i Västerås på Scandic hotell och kommer att börja runt kl. 10 och efter det blir det äventyrsbad och middag på hotellet.\n\n\nÄventyrsbad\, lunch\, middag\, övernattning och frukost ingår för dig som anmäler dig senast 19/2 2023! Anmäl dig genom att mejla till: regionost@ungareumatiker.se\nI anmälan\, var god uppge personuppgifter\, allergier/specialkost allergier/ samt behov av anpassat rum och lokal!\n\n\n\nÅrsmötet kommer att äga rum pả Scandic Västerås under lördagen den 11 mars. Efter årsmötet är planen att vi tillsammans ska besöka äventyrsbadet Kokpunkten och sedan avsluta dagen med en gemensam middag pả hotellet.\n\n\n\nVARMT VÄLKOMNA!\nÖnskar styrelsen UNGA REUMATIKER REGION ÖST.\n\n\n\nMer information kommer. Har du frågor kan du mejla till regionost@ungareumatiker.se
URL:https://ungareumatiker.se/handelser/arsmote-unga-reumatiker-region-ost/
ORGANIZER;CN="Unga Reumatiker Region %C3%96st":MAILTO:regionost@ungareumatiker.se
END:VEVENT
BEGIN:VEVENT
DTSTART;VALUE=DATE:20230318
DTEND;VALUE=DATE:20230319
DTSTAMP:20260421T123837
CREATED:20221201T100006Z
LAST-MODIFIED:20230213T125627Z
UID:7782-1679097600-1679183999@ungareumatiker.se
SUMMARY:Årsmöte - Unga Reumatiker Region Mitt
DESCRIPTION:Välkomna på Unga Reumatiker Region Mitts årsmöte den 18 mars 2023!\nVi bjuder på lunch och eventuella resekostnader – utbetalning sker så fort vi fått tillgång till vårt konto på banken. Meddela ev. allergier och specialkost så vi kan inhandla rätt lunch.\nÅrsmötet börjar kl. 11.00 och beräknas pågå i två timmar. Efter årsmötet finns det möjlighet att vara kvar och fira internationella barnreumatikerdagen tillsammans. Dagen beräknas vara klar 16.00. \nPlats: Örebro\, i föreningarnas hus \nAnmäl dig genom att klicka här och fylla i formuläret! \nVill du vara med i styrelsen för Region Mitt kan du mejla och skriva till regionstyrelsen senast 9 mars.\nHar du ett förslag på något regionen borde göra kan du mejla in ditt förslag senast 6 mars.\nDu mejlar till regionmitt@ungareumatiker.se
URL:https://ungareumatiker.se/handelser/arsmote-unga-reumatiker-region-mitt/
ORGANIZER;CN="Unga Reumatiker Region Mitt":MAILTO:regionmitt@ungareumatiker.se
END:VEVENT
BEGIN:VEVENT
DTSTART;VALUE=DATE:20230318
DTEND;VALUE=DATE:20230319
DTSTAMP:20260421T123837
CREATED:20221201T100312Z
LAST-MODIFIED:20221201T100312Z
UID:7788-1679097600-1679183999@ungareumatiker.se
SUMMARY:Internationella Barnreumatikerdagen
DESCRIPTION:Mer information kommer.
URL:https://ungareumatiker.se/handelser/internationella-barnreumatikerdagen/
END:VEVENT
BEGIN:VEVENT
DTSTART;VALUE=DATE:20230324
DTEND;VALUE=DATE:20230327
DTSTAMP:20260421T123837
CREATED:20221201T100218Z
LAST-MODIFIED:20221201T100228Z
UID:7784-1679616000-1679875199@ungareumatiker.se
SUMMARY:Årsmöte - Unga Reumatiker Region Norr
DESCRIPTION:Mer information kommer. Har du frågor kan du mejla till regionnorr@ungareumatiker.se
URL:https://ungareumatiker.se/handelser/arsmote-unga-reumatiker-region-norr/
ORGANIZER;CN="Unga Reumatiker Region Norr":MAILTO:regionnorr@ungareumatiker.se
END:VEVENT
END:VCALENDAR