BEGIN:VCALENDAR
VERSION:2.0
PRODID:-//Unga Reumatiker - ECPv6.15.15//NONSGML v1.0//EN
CALSCALE:GREGORIAN
METHOD:PUBLISH
X-ORIGINAL-URL:https://ungareumatiker.se
X-WR-CALDESC:Händelser för Unga Reumatiker
REFRESH-INTERVAL;VALUE=DURATION:PT1H
X-Robots-Tag:noindex
X-PUBLISHED-TTL:PT1H
BEGIN:VTIMEZONE
TZID:Europe/Stockholm
BEGIN:DAYLIGHT
TZOFFSETFROM:+0100
TZOFFSETTO:+0200
TZNAME:CEST
DTSTART:20220327T010000
END:DAYLIGHT
BEGIN:STANDARD
TZOFFSETFROM:+0200
TZOFFSETTO:+0100
TZNAME:CET
DTSTART:20221030T010000
END:STANDARD
BEGIN:DAYLIGHT
TZOFFSETFROM:+0100
TZOFFSETTO:+0200
TZNAME:CEST
DTSTART:20230326T010000
END:DAYLIGHT
BEGIN:STANDARD
TZOFFSETFROM:+0200
TZOFFSETTO:+0100
TZNAME:CET
DTSTART:20231029T010000
END:STANDARD
BEGIN:DAYLIGHT
TZOFFSETFROM:+0100
TZOFFSETTO:+0200
TZNAME:CEST
DTSTART:20240331T010000
END:DAYLIGHT
BEGIN:STANDARD
TZOFFSETFROM:+0200
TZOFFSETTO:+0100
TZNAME:CET
DTSTART:20241027T010000
END:STANDARD
END:VTIMEZONE
BEGIN:VEVENT
DTSTART;TZID=Europe/Stockholm:20230415T090000
DTEND;TZID=Europe/Stockholm:20230416T150000
DTSTAMP:20260421T112642
CREATED:20230213T130109Z
LAST-MODIFIED:20230213T130158Z
UID:8041-1681549200-1681657200@ungareumatiker.se
SUMMARY:Utbildningshelg
DESCRIPTION:Nu är det dags att anmäla sig till utbildningshelgen den 15-16 april!\nUtbildningshelgen kommer ge verktyg till er som är eller vill bli engagerade inom olika uppdrag hos Unga Reumatiker. Det kommer vara flera informativa pass för alla olika engagemangsformer\, men också gemensamma inspirerande pass som alla får möjlighet att delta på. Fokus för helgen kommer vara ledarskap\, stöd\, föreningsteknik\, planering och påverkan/makt. Dessa teman kommer vara invävda på olika sätt under hela helgen. Helgen kommer vara inspirerande och rolig och ge dig massor av ny kunskap och nya kontakter inom Unga Reumatiker! \nVi kommer vara i Stockholm och ni som reser till Stockholm kommer erbjudas resa och boende. \nVi kommer kontakta er som behöver resa och boende för att boka in det i slutet av mars/början av april. \nAnmäl dig till utbildningshelgen här: ungareumatiker.se/utbildningshelgen-2023
URL:https://ungareumatiker.se/handelser/utbildningshelg/
LOCATION:Kansliet\, Arenavägen 47\, Stockholm\, 121 77\, Sverige
END:VEVENT
BEGIN:VEVENT
DTSTART;VALUE=DATE:20230417
DTEND;VALUE=DATE:20230418
DTSTAMP:20260421T112642
CREATED:20230213T130510Z
LAST-MODIFIED:20230213T130510Z
UID:8046-1681689600-1681775999@ungareumatiker.se
SUMMARY:Sista dagen att anmäla sig till Ungdomslägret 2023
DESCRIPTION:Unga Reumatiker bjuder in alla sina medlemmar i åldern 14–19 år till vårt populära ungdomsläger!\n  \nNär: 27 juni –2 juli\nVar: Lillsveds folkhögskola i Stockholms skärgård\nHur: Sex dagar fyllda av roliga aktiviteter\, bland annat en heldag på Gröna Lund\, inspirerande föreläsningar och härlig gemenskap!\n  \nDeltargavgiften är 500 kr. I kostanden för ungdomslägret ingår resor\, mat\, boende\, besök på Gröna Lund och alla andra aktiviteter under veckan. Alla deltagare måste också ha betalat medlemsavgiften för 2023 i Unga Reumatiker. \nVi samlas på Cityterminalen/Centralstationen i Stockholm på tisdag eftermiddag för gemensam färd ut till lägergården. Hemresa kommer att ske på söndag eftermiddag och alla resor bokas av kansliet. Resor bokas och mer praktisk skickas ut till deltagarna inför lägret. \nSista anmälningsdag är den 17 april och du hittar anmälningsformuläret på vår sida om ungdomslägret: Ungdoms­läger – Unga Reumatiker
URL:https://ungareumatiker.se/handelser/sista-dagen-att-anmala-sig-till-ungdomslagret-2023/
LOCATION:Kansliet\, Arenavägen 47\, Stockholm\, 121 77\, Sverige
END:VEVENT
END:VCALENDAR