BEGIN:VCALENDAR
VERSION:2.0
PRODID:-//Unga Reumatiker - ECPv6.15.15//NONSGML v1.0//EN
CALSCALE:GREGORIAN
METHOD:PUBLISH
X-ORIGINAL-URL:https://ungareumatiker.se
X-WR-CALDESC:Händelser för Unga Reumatiker
REFRESH-INTERVAL;VALUE=DURATION:PT1H
X-Robots-Tag:noindex
X-PUBLISHED-TTL:PT1H
BEGIN:VTIMEZONE
TZID:Europe/Stockholm
BEGIN:DAYLIGHT
TZOFFSETFROM:+0100
TZOFFSETTO:+0200
TZNAME:CEST
DTSTART:20220327T010000
END:DAYLIGHT
BEGIN:STANDARD
TZOFFSETFROM:+0200
TZOFFSETTO:+0100
TZNAME:CET
DTSTART:20221030T010000
END:STANDARD
BEGIN:DAYLIGHT
TZOFFSETFROM:+0100
TZOFFSETTO:+0200
TZNAME:CEST
DTSTART:20230326T010000
END:DAYLIGHT
BEGIN:STANDARD
TZOFFSETFROM:+0200
TZOFFSETTO:+0100
TZNAME:CET
DTSTART:20231029T010000
END:STANDARD
BEGIN:DAYLIGHT
TZOFFSETFROM:+0100
TZOFFSETTO:+0200
TZNAME:CEST
DTSTART:20240331T010000
END:DAYLIGHT
BEGIN:STANDARD
TZOFFSETFROM:+0200
TZOFFSETTO:+0100
TZNAME:CET
DTSTART:20241027T010000
END:STANDARD
END:VTIMEZONE
BEGIN:VEVENT
DTSTART;VALUE=DATE:20230505
DTEND;VALUE=DATE:20230506
DTSTAMP:20260421T101625
CREATED:20230313T084531Z
LAST-MODIFIED:20230313T084531Z
UID:8229-1683244800-1683331199@ungareumatiker.se
SUMMARY:Sista dagen att anmäla sig till unga vuxna-lägret 2023
DESCRIPTION:
URL:https://ungareumatiker.se/handelser/sista-dagen-att-anmala-sig-till-unga-vuxna-lagret-2023/
LOCATION:Digitalt
END:VEVENT
BEGIN:VEVENT
DTSTART;VALUE=DATE:20230526
DTEND;VALUE=DATE:20230527
DTSTAMP:20260421T101625
CREATED:20230515T133759Z
LAST-MODIFIED:20230515T133819Z
UID:8544-1685059200-1685145599@ungareumatiker.se
SUMMARY:Sista anmälningsdag inför Minigolf med Unga Reumatiker Region Syd Malmö
DESCRIPTION:Nu är det dags för oss\, i Unga Reumatiker Region Syd\, att anordna vår första fysiska aktivitet sedan pandemin\, och åter väcka liv i den gemenskap och mötesplats som vi vill skapa tillsammans med våra medlemmar. Vad passar väl inte bättre på försommaren än att ses och spela minigolf?! \nVi anordnar minigolf på två olika platser inom Region Syd och hoppas du kan hitta ett av tillfällena som passar dig. \nMalmö  \nLördag 3 juni \nKl 14.00 till ca kl 16.00 \nVi ses på Ribban Green Golf (Ribersborgsstigen 6\, 216 13 Limhamn) \nAnmäl dig genom att fylla i formuläret:  Anmälan till minigolf med Unga Reumatiker region syd! (google.com) \nHoppas vi ses! \nHör gärna av dig till oss på mejl om du har några frågor\, antingen om minigolfen eller om annat som rör Unga Reumatiker. \nVänliga hälsningar\,  \nEmelie\, Annie\, Charlotta\, Julia & Frida \nStyrelsen i Unga Reumatiker Region Syd
URL:https://ungareumatiker.se/handelser/sista-anmalningsdag-infor-minigolf-med-unga-reumatiker-region-syd-malmo/
LOCATION:Ribban Green Golf\, Ribergsborgsstigen 6\, Limhamn\, 216 13\, Sverige
ORGANIZER;CN="Unga Reumatiker Region Syd":MAILTO:regionsyd@ungareumatiker.se
END:VEVENT
END:VCALENDAR