BEGIN:VCALENDAR
VERSION:2.0
PRODID:-//Unga Reumatiker - ECPv6.15.15//NONSGML v1.0//EN
CALSCALE:GREGORIAN
METHOD:PUBLISH
X-WR-CALNAME:Unga Reumatiker
X-ORIGINAL-URL:https://ungareumatiker.se
X-WR-CALDESC:Händelser för Unga Reumatiker
REFRESH-INTERVAL;VALUE=DURATION:PT1H
X-Robots-Tag:noindex
X-PUBLISHED-TTL:PT1H
BEGIN:VTIMEZONE
TZID:Europe/Stockholm
BEGIN:DAYLIGHT
TZOFFSETFROM:+0100
TZOFFSETTO:+0200
TZNAME:CEST
DTSTART:20220327T010000
END:DAYLIGHT
BEGIN:STANDARD
TZOFFSETFROM:+0200
TZOFFSETTO:+0100
TZNAME:CET
DTSTART:20221030T010000
END:STANDARD
BEGIN:DAYLIGHT
TZOFFSETFROM:+0100
TZOFFSETTO:+0200
TZNAME:CEST
DTSTART:20230326T010000
END:DAYLIGHT
BEGIN:STANDARD
TZOFFSETFROM:+0200
TZOFFSETTO:+0100
TZNAME:CET
DTSTART:20231029T010000
END:STANDARD
BEGIN:DAYLIGHT
TZOFFSETFROM:+0100
TZOFFSETTO:+0200
TZNAME:CEST
DTSTART:20240331T010000
END:DAYLIGHT
BEGIN:STANDARD
TZOFFSETFROM:+0200
TZOFFSETTO:+0100
TZNAME:CET
DTSTART:20241027T010000
END:STANDARD
END:VTIMEZONE
BEGIN:VEVENT
DTSTART;TZID=Europe/Stockholm:20230627T090000
DTEND;TZID=Europe/Stockholm:20230702T150000
DTSTAMP:20260421T065736
CREATED:20230213T130408Z
LAST-MODIFIED:20230213T130408Z
UID:8043-1687856400-1688310000@ungareumatiker.se
SUMMARY:Ungdomsläger
DESCRIPTION:Unga Reumatiker bjuder in alla sina medlemmar i åldern 14–19 år till vårt populära ungdomsläger!\n  \nNär: 27 juni –2 juli\nVar: Lillsveds folkhögskola i Stockholms skärgård\nHur: Sex dagar fyllda av roliga aktiviteter\, bland annat en heldag på Gröna Lund\, inspirerande föreläsningar och härlig gemenskap!\n  \nDeltargavgiften är 500 kr. I kostanden för ungdomslägret ingår resor\, mat\, boende\, besök på Gröna Lund och alla andra aktiviteter under veckan. Alla deltagare måste också ha betalat medlemsavgiften för 2023 i Unga Reumatiker. \nVi samlas på Cityterminalen/Centralstationen i Stockholm på tisdag eftermiddag för gemensam färd ut till lägergården. Hemresa kommer att ske på söndag eftermiddag och alla resor bokas av kansliet. Resor bokas och mer praktisk skickas ut till deltagarna inför lägret. \nSista anmälningsdag är den 17 april och du hittar anmälningsformuläret på vår sida om ungdomslägret: Ungdoms­läger – Unga Reumatiker \n  \nHar du några frågor är du varmt välkommen att kontakta kansliet på kansliet@ungareumatiker.se \n  \nHoppas vi ses på ungdomslägret!
URL:https://ungareumatiker.se/handelser/ungdomslager/
LOCATION:Lilsveds Folkhögskola\, Lillsvedsvägen 100\, Värmdö\, Värmdö\, 139 90
END:VEVENT
END:VCALENDAR