BEGIN:VCALENDAR
VERSION:2.0
PRODID:-//Unga Reumatiker - ECPv6.15.15//NONSGML v1.0//EN
CALSCALE:GREGORIAN
METHOD:PUBLISH
X-WR-CALNAME:Unga Reumatiker
X-ORIGINAL-URL:https://ungareumatiker.se
X-WR-CALDESC:Händelser för Unga Reumatiker
REFRESH-INTERVAL;VALUE=DURATION:PT1H
X-Robots-Tag:noindex
X-PUBLISHED-TTL:PT1H
BEGIN:VTIMEZONE
TZID:Europe/Stockholm
BEGIN:DAYLIGHT
TZOFFSETFROM:+0100
TZOFFSETTO:+0200
TZNAME:CEST
DTSTART:20220327T010000
END:DAYLIGHT
BEGIN:STANDARD
TZOFFSETFROM:+0200
TZOFFSETTO:+0100
TZNAME:CET
DTSTART:20221030T010000
END:STANDARD
BEGIN:DAYLIGHT
TZOFFSETFROM:+0100
TZOFFSETTO:+0200
TZNAME:CEST
DTSTART:20230326T010000
END:DAYLIGHT
BEGIN:STANDARD
TZOFFSETFROM:+0200
TZOFFSETTO:+0100
TZNAME:CET
DTSTART:20231029T010000
END:STANDARD
BEGIN:DAYLIGHT
TZOFFSETFROM:+0100
TZOFFSETTO:+0200
TZNAME:CEST
DTSTART:20240331T010000
END:DAYLIGHT
BEGIN:STANDARD
TZOFFSETFROM:+0200
TZOFFSETTO:+0100
TZNAME:CET
DTSTART:20241027T010000
END:STANDARD
END:VTIMEZONE
BEGIN:VEVENT
DTSTART;TZID=Europe/Stockholm:20230903T090000
DTEND;TZID=Europe/Stockholm:20230903T150000
DTSTAMP:20260421T101344
CREATED:20230814T145057Z
LAST-MODIFIED:20230814T145057Z
UID:8804-1693731600-1693753200@ungareumatiker.se
SUMMARY:Flygaktivitet med Unga Reumatiker Region Öst
DESCRIPTION:3 september kl. 9-15 kommer Unga Reumatiker Region Öst att hålla i en flygaktivitet på Hässlö flygplats i Västerås! \nVi kommer ha en heldag på flygplatsen med olika föreläsningar och även möjlighet att få flyga tillsammans med piloter på en tur uppe i luften. Utöver detta kommer vi även kunna bjuda på en pyssel-hörna och chansen att få träffa andra medlemmar hos oss i Region Öst. Varje medlem som anmäler sig får ta med sig en anhörig\, aktiviteten har begränsat med platser så ”först till kvarn” kommer tillämpas. \nSista anmälningsdag: 25 augusti \nAnmäl er genom att mejla regionost@ungareumatiker.se \nVid anmälan var god uppge: \n\nNamn (på de två deltagande\, medlem + anhörig)\nÅlder\nKostpreferens samt eventuell övrig bra info.\nMejl och/eller telefonnummer att ta kontakt via.\n\nAktiviteten har en bindande anmälningsavgift på 70 kronor/sällskap. I denna avgift ingår sedan en heldag på flygplatsen där vi även bjuder på mat och fika. Det finns även möjlighet att söka ersättning för transporten till och från aktiviteten. \nVarmt välkomna med er anmälan önskar styrelsen i Region Öst!
URL:https://ungareumatiker.se/handelser/flygaktivitet-med-unga-reumatiker-region-ost/
LOCATION:Hässlö flygplats\, Västerås\, Sverige
ORGANIZER;CN="Unga Reumatiker Region %C3%96st":MAILTO:regionost@ungareumatiker.se
END:VEVENT
BEGIN:VEVENT
DTSTART;TZID=Europe/Stockholm:20230903T140000
DTEND;TZID=Europe/Stockholm:20230903T160000
DTSTAMP:20260421T101344
CREATED:20230724T122028Z
LAST-MODIFIED:20230724T122028Z
UID:8752-1693749600-1693756800@ungareumatiker.se
SUMMARY:Fika med Unga Reumatiker Region Syd
DESCRIPTION:GEMENSKAP OCH FIKA\nKl 14.00-16.00 i centrala Malmö och centrala Karlskrona.\nVad är väl bättre än en fika? Kom och träffa andra medlemmar i Unga Reumatiker.\nMedlemmar i alla åldrar är varmt välkomna! Även föräldrar till barn med reumatisk diagnos.\nAnmäl dig gärna senast den 31/8 så vi vet hur många som kommer. \nAnmäl dig genom att fylla i formuläret: https://forms.gle/Yzg9cLmfVQCsY4AL6
URL:https://ungareumatiker.se/handelser/fika-med-unga-reumatiker-region-syd/
LOCATION:Region Syd
ORGANIZER;CN="Unga Reumatiker Region Syd":MAILTO:regionsyd@ungareumatiker.se
END:VEVENT
BEGIN:VEVENT
DTSTART;VALUE=DATE:20230916
DTEND;VALUE=DATE:20230918
DTSTAMP:20260421T101344
CREATED:20230428T072816Z
LAST-MODIFIED:20230428T072816Z
UID:8490-1694822400-1694995199@ungareumatiker.se
SUMMARY:Engagemangshelgen 2023
DESCRIPTION:
URL:https://ungareumatiker.se/handelser/engagemangshelgen-2023/
LOCATION:Kansliet\, Arenavägen 47\, Stockholm\, 121 77\, Sverige
END:VEVENT
END:VCALENDAR