BEGIN:VCALENDAR
VERSION:2.0
PRODID:-//Unga Reumatiker - ECPv6.15.15//NONSGML v1.0//EN
CALSCALE:GREGORIAN
METHOD:PUBLISH
X-WR-CALNAME:Unga Reumatiker
X-ORIGINAL-URL:https://ungareumatiker.se
X-WR-CALDESC:Händelser för Unga Reumatiker
REFRESH-INTERVAL;VALUE=DURATION:PT1H
X-Robots-Tag:noindex
X-PUBLISHED-TTL:PT1H
BEGIN:VTIMEZONE
TZID:Europe/Stockholm
BEGIN:DAYLIGHT
TZOFFSETFROM:+0100
TZOFFSETTO:+0200
TZNAME:CEST
DTSTART:20220327T010000
END:DAYLIGHT
BEGIN:STANDARD
TZOFFSETFROM:+0200
TZOFFSETTO:+0100
TZNAME:CET
DTSTART:20221030T010000
END:STANDARD
BEGIN:DAYLIGHT
TZOFFSETFROM:+0100
TZOFFSETTO:+0200
TZNAME:CEST
DTSTART:20230326T010000
END:DAYLIGHT
BEGIN:STANDARD
TZOFFSETFROM:+0200
TZOFFSETTO:+0100
TZNAME:CET
DTSTART:20231029T010000
END:STANDARD
BEGIN:DAYLIGHT
TZOFFSETFROM:+0100
TZOFFSETTO:+0200
TZNAME:CEST
DTSTART:20240331T010000
END:DAYLIGHT
BEGIN:STANDARD
TZOFFSETFROM:+0200
TZOFFSETTO:+0100
TZNAME:CET
DTSTART:20241027T010000
END:STANDARD
END:VTIMEZONE
BEGIN:VEVENT
DTSTART;VALUE=DATE:20231010
DTEND;VALUE=DATE:20231011
DTSTAMP:20260421T112208
CREATED:20230724T122824Z
LAST-MODIFIED:20230724T122824Z
UID:8759-1696896000-1696982399@ungareumatiker.se
SUMMARY:Sista dagen att anmäla sig till digital träff med spel och fika med Unga Reumatiker Region Syd
DESCRIPTION:DIGITAL TRÄFF MED SPEL OCH FIKA\nSöndagen 15 oktober kl. 14.00-16.00 \nVi ses digitalt för att spela tillsammans\, fika och berätta anekdoter\, spökhistorier eller\nlivserfarenheter.Vi bjuder på fikat! Hoppas att du vill komma och hänga med oss digitalt! Har\ndu tips på något roligt vi kan spela tillsammans? Skriv till oss! \nAnmäl dig senast den 10/10 via formuläret\, https://forms.gle/FwtTjwGprdjz2eXq6\,  så vi hinner skicka information till dig via mejl.
URL:https://ungareumatiker.se/handelser/sista-dagen-att-anmala-sig-till-digital-traff-med-spel-och-fika-med-unga-reumatiker-region-syd/
LOCATION:Digitalt
ORGANIZER;CN="Unga Reumatiker Region Syd":MAILTO:regionsyd@ungareumatiker.se
END:VEVENT
BEGIN:VEVENT
DTSTART;TZID=Europe/Stockholm:20231013T080000
DTEND;TZID=Europe/Stockholm:20231015T170000
DTSTAMP:20260421T112208
CREATED:20230313T084020Z
LAST-MODIFIED:20230313T084020Z
UID:8224-1697184000-1697389200@ungareumatiker.se
SUMMARY:Barnläger 2023
DESCRIPTION:Under hösten anordnar Unga Reumatiker återigen vårt populära barnläger! Vi samlas för en helg med gemenskap\, lekar\, föreläsning med en barnreumatolog och massa skoj och bus! \nLägret vänder sig till medlemmar i åldern 7-13 år och en närstående vuxen. Du behöver vara medlem i Unga Reumatiker för att kunna delta på lägret. \nHar du frågor kan du kontakta vårt kansli på: kansliet@ungareumatiker.se eller ringa oss på 08-6058270
URL:https://ungareumatiker.se/handelser/barnlager-2023/
LOCATION:Tollare\, Åhlbergs väg\, Stockholm\, 132 49\, Sverige
END:VEVENT
BEGIN:VEVENT
DTSTART;TZID=Europe/Stockholm:20231015T140000
DTEND;TZID=Europe/Stockholm:20231015T160000
DTSTAMP:20260421T112208
CREATED:20230724T122625Z
LAST-MODIFIED:20230724T122625Z
UID:8757-1697378400-1697385600@ungareumatiker.se
SUMMARY:Digital träff med spel och fika med Unga Reumatiker Region Syd
DESCRIPTION:DIGITAL TRÄFF MED SPEL OCH FIKA\nSöndagen 15 oktober kl. 14.00-16.00 \nVi ses digitalt för att spela tillsammans\, fika och berätta anekdoter\, spökhistorier eller\nlivserfarenheter.Vi bjuder på fikat! Hoppas att du vill komma och hänga med oss digitalt! Har\ndu tips på något roligt vi kan spela tillsammans? Skriv till oss! \nAnmäl dig senast den 10/10 via formuläret\, https://forms.gle/FwtTjwGprdjz2eXq6\,  så vi hinner skicka information till dig via mejl.
URL:https://ungareumatiker.se/handelser/digital-traff-med-spel-och-fika-med-unga-reumatiker-region-syd/
LOCATION:Digitalt
ORGANIZER;CN="Unga Reumatiker Region Syd":MAILTO:regionsyd@ungareumatiker.se
END:VEVENT
BEGIN:VEVENT
DTSTART;VALUE=DATE:20231029
DTEND;VALUE=DATE:20231030
DTSTAMP:20260421T112208
CREATED:20231020T125405Z
LAST-MODIFIED:20231020T125405Z
UID:9035-1698537600-1698623999@ungareumatiker.se
SUMMARY:Sista anmälningsdag Digital fika med Unga Reumatiker Region Väst
DESCRIPTION:Hej alla kära medlemmar! \n  \nDen 1 november klockan 17:00\, så har vi Unga Reumatiker (Region Väst) planerat att ha en digital fikastund\, där alla som anmäler sig kommer få en gratis fika box hemskickat inför fikastunden. \nDetta kommer vara en trevlig stund för medlemmarna att få träffa Unga Reumatiker Styrelsen och chans att kunna lära känna varandra! Alla är så varmt välkomna att vara med och målet är att alla som är intresserade i detta anmäler sig. \nTemat för vår digitala fikastund är Halloween\, så känn dig fri att klä upp dig i något inspirerat av Halloween! \nAllt detta är självklart gratis\, så ifall du är intresserad så anmäler du dig genom att svara detta mailet med ditt: \n-Namn\, Efternamn \n-Adress\nIfall du är intresserad så är sista anmälningsdagen den 29 oktober. \nNi som anmäler er kommer att få en videolänk\, där fikastunden kommer att hållas. \n  \nHar du några matpreferenser angående fika boxen\, som till exempel glutenintolerant\, gelatinfritt så skriv gärna det i anmälan. \n  \nHar du några övriga frågor gällande digitala fikastunden eller något annat\, så är du mer än välkommen att skriva till oss på denna Unga Reumatiker mejladressen. \n  \nNi alla får ha en fortsatt trevlig vecka\, och vi ser fram emot era anmälningar för fikastunden! \n  \nMed Vänliga Hälsningar\, \n  \nRegion Väst Unga Reumatiker Styrelsen 
URL:https://ungareumatiker.se/handelser/sista-anmalningsdag-digital-fika-med-unga-reumatiker-region-vast/
LOCATION:Digitalt
ORGANIZER;CN="Unga Reumatiker Region V%C3%A4st":MAILTO:regionvast@ungareumatiker.se
END:VEVENT
END:VCALENDAR