BEGIN:VCALENDAR
VERSION:2.0
PRODID:-//Unga Reumatiker - ECPv6.15.15//NONSGML v1.0//EN
CALSCALE:GREGORIAN
METHOD:PUBLISH
X-ORIGINAL-URL:https://ungareumatiker.se
X-WR-CALDESC:Händelser för Unga Reumatiker
REFRESH-INTERVAL;VALUE=DURATION:PT1H
X-Robots-Tag:noindex
X-PUBLISHED-TTL:PT1H
BEGIN:VTIMEZONE
TZID:Europe/Stockholm
BEGIN:DAYLIGHT
TZOFFSETFROM:+0100
TZOFFSETTO:+0200
TZNAME:CEST
DTSTART:20220327T010000
END:DAYLIGHT
BEGIN:STANDARD
TZOFFSETFROM:+0200
TZOFFSETTO:+0100
TZNAME:CET
DTSTART:20221030T010000
END:STANDARD
BEGIN:DAYLIGHT
TZOFFSETFROM:+0100
TZOFFSETTO:+0200
TZNAME:CEST
DTSTART:20230326T010000
END:DAYLIGHT
BEGIN:STANDARD
TZOFFSETFROM:+0200
TZOFFSETTO:+0100
TZNAME:CET
DTSTART:20231029T010000
END:STANDARD
BEGIN:DAYLIGHT
TZOFFSETFROM:+0100
TZOFFSETTO:+0200
TZNAME:CEST
DTSTART:20240331T010000
END:DAYLIGHT
BEGIN:STANDARD
TZOFFSETFROM:+0200
TZOFFSETTO:+0100
TZNAME:CET
DTSTART:20241027T010000
END:STANDARD
END:VTIMEZONE
BEGIN:VEVENT
DTSTART;TZID=Europe/Stockholm:20231101T170000
DTEND;TZID=Europe/Stockholm:20231101T193000
DTSTAMP:20260421T124000
CREATED:20231020T125523Z
LAST-MODIFIED:20231020T125523Z
UID:9037-1698858000-1698867000@ungareumatiker.se
SUMMARY:Digital fika med Unga Reumatiker Region Väst
DESCRIPTION:Hej alla kära medlemmar! \n  \nDen 1 november klockan 17:00\, så har vi Unga Reumatiker (Region Väst) planerat att ha en digital fikastund\, där alla som anmäler sig kommer få en gratis fika box hemskickat inför fikastunden. \nDetta kommer vara en trevlig stund för medlemmarna att få träffa Unga Reumatiker Styrelsen och chans att kunna lära känna varandra! Alla är så varmt välkomna att vara med och målet är att alla som är intresserade i detta anmäler sig. \nTemat för vår digitala fikastund är Halloween\, så känn dig fri att klä upp dig i något inspirerat av Halloween! \nAllt detta är självklart gratis\, så ifall du är intresserad så anmäler du dig genom att svara detta mailet med ditt: \n-Namn\, Efternamn \n-Adress\nIfall du är intresserad så är sista anmälningsdagen den 29 oktober. \nNi som anmäler er kommer att få en videolänk\, där fikastunden kommer att hållas. \n  \nHar du några matpreferenser angående fika boxen\, som till exempel glutenintolerant\, gelatinfritt så skriv gärna det i anmälan. \n  \nHar du några övriga frågor gällande digitala fikastunden eller något annat\, så är du mer än välkommen att skriva till oss på denna Unga Reumatiker mejladressen. \n  \nNi alla får ha en fortsatt trevlig vecka\, och vi ser fram emot era anmälningar för fikastunden! \n  \nMed Vänliga Hälsningar\, \n  \nRegion Väst Unga Reumatiker Styrelsen 
URL:https://ungareumatiker.se/handelser/digital-fika-med-unga-reumatiker-region-vast/
LOCATION:Digitalt
ORGANIZER;CN="Unga Reumatiker Region V%C3%A4st":MAILTO:regionvast@ungareumatiker.se
END:VEVENT
BEGIN:VEVENT
DTSTART;TZID=Europe/Stockholm:20231103T080000
DTEND;TZID=Europe/Stockholm:20231105T170000
DTSTAMP:20260421T124000
CREATED:20230313T084131Z
LAST-MODIFIED:20230313T084131Z
UID:8227-1698998400-1699203600@ungareumatiker.se
SUMMARY:Småbarnsläger 2023
DESCRIPTION:Under hösten anordnar Unga Reumatiker återigen vårt populära småbarnsläger! Vi samlas för en helg med gemenskap\, lekar\, föreläsning med en barnreumatolog och massa skoj och bus! \nLägret vänder sig till medlemmar i åldern 0-6 år och en närstående vuxen. Du behöver vara medlem i Unga Reumatiker för att kunna delta på lägret. \nHar du frågor kan du kontakta vårt kansli på: kansliet@ungareumatiker.se eller ringa oss på 08-6058270
URL:https://ungareumatiker.se/handelser/smabarnslager-2023/
LOCATION:Tollare\, Åhlbergs väg\, Stockholm\, 132 49\, Sverige
END:VEVENT
BEGIN:VEVENT
DTSTART;VALUE=DATE:20231109
DTEND;VALUE=DATE:20231110
DTSTAMP:20260421T124000
CREATED:20231019T075927Z
LAST-MODIFIED:20231019T081333Z
UID:9023-1699488000-1699574399@ungareumatiker.se
SUMMARY:Sista anmälningsdag till Helg i Umeå med Unga Reumatiker Region Norr
DESCRIPTION:Välkomna till en helg i Umeå med oss! \nVi står för mat\, resor\, aktiviteter och boende. Alla medlemmar är välkomna! \nLördag till Söndag 18-19/11 med ankomst och samling kl. 12 i Umeå på lördagen. Vi börjar med lunch på Megazone. \nAnmälan och frågor kan ni skicka till vår mail regionnorr@ungareumatiker.se senast 9/11. \nHoppas vi ses! \nHälsningar / Styrelsen
URL:https://ungareumatiker.se/handelser/sista-anmalningsdag-till-helg-i-umea-med-unga-reumatiker-region-norr/
LOCATION:Digitalt
ORGANIZER;CN="Unga Reumatiker Region Norr":MAILTO:regionnorr@ungareumatiker.se
END:VEVENT
BEGIN:VEVENT
DTSTART;VALUE=DATE:20231110
DTEND;VALUE=DATE:20231111
DTSTAMP:20260421T124000
CREATED:20230822T145611Z
LAST-MODIFIED:20230822T145611Z
UID:8818-1699574400-1699660799@ungareumatiker.se
SUMMARY:Spa-dag med inpackning med Unga Reumatiker Region Syd
DESCRIPTION:Boka in dig på en lyxig spastund på spa- och hudterapeututbildningens verksamhet i Landskrona. Vi bjuder våra medlemmar på en kroppsinpackning\, härligt varmt och skönt i ruskiga hösttider! Ring direkt till deras bokningstelefon på 0418-473086 och berätta att du är medlem. \nAdressen är Yrkeshögskolan Landskrona\, Järnvägsgatan 8\, våning 3. \nTillgängliga tider: Kl. 09.00\, 10.30\, 13.00 eller 14.30 \nMedlemmar ur styrelsen kommer att vara på plats under hela dagen. \nSå här går behandlingen till: ”En kroppsinpackning innebär att man blir peelad över hela kroppen\, därefter appliceras inpackningsprodukt och man blir inpackad vilket är väldigt skönt\, därefter duschar man av sig inpackningen och tillbaka på behandlingssängen applicerar terapeuten en mjukgörande bodylotion. Det enda man behöver tänka på är att ta på sig oömma underkläder då det kan komma inpackningsprodukt på dem (går självklart av i tvätten) och att ta med sig nya underkläder att ta på sig efter duschen.” \n(Observera! Denna aktivitet är för medlemmar över 16 år\, att erbjudandet gäller endast 10 november 2023\, att ni måste uppge att ni är medlemmar i Unga Reumatiker Region Syd vid bokningstillfället\, att anmälan är bindande och att om man inte dyker upp utan att avboka senast 7 dagar innan kommer man att debiteras kostnaden för behandlingen). \nHar du frågor kan du kontakta oss i Region Syd via regionsyd@ungareumatiker.se \n 
URL:https://ungareumatiker.se/handelser/spa-dag-med-inpackning-med-unga-reumatiker-region-syd/
LOCATION:Yrkeshögskolan Landskrona\, Järnvägsgatan 8\, Landskrona\, Sverige
ORGANIZER;CN="Unga Reumatiker Region %C3%96st":MAILTO:regionost@ungareumatiker.se
END:VEVENT
BEGIN:VEVENT
DTSTART;TZID=Europe/Stockholm:20231118T120000
DTEND;TZID=Europe/Stockholm:20231119T100000
DTSTAMP:20260421T124000
CREATED:20231019T080222Z
LAST-MODIFIED:20231019T080222Z
UID:9025-1700308800-1700388000@ungareumatiker.se
SUMMARY:Helg i Umeå med Unga Reumatiker Region Norr
DESCRIPTION:Välkomna till en helg i Umeå med oss! \nVi står för mat\, resor\, aktiviteter och boende. Alla medlemmar är välkomna! \nLördag till Söndag 18-19/11 med ankomst och samling kl. 12 i Umeå på lördagen. Vi börjar med lunch på Megazone. \nPreliminärt schema: \nLördag 18/11 \n\nAnkomst till Umeå kl. 12\nLunch på Megazone kl. 13\nFortet\nIncheckning på hotell kl. 16\nMiddag kl. 18\nBowling\n\nSöndag 19/11 \n\nFrukost\nUtcheckning kl. 10\n\nAnmälan och frågor kan ni skicka till vår mail regionnorr@ungareumatiker.se senast 9/11. \nHoppas vi ses! \nHälsningar / Styrelsen
URL:https://ungareumatiker.se/handelser/helg-i-umea-med-unga-reumatiker-region-norr/
LOCATION:Umeå\, Umeå\, Umeå\, Sverige
ORGANIZER;CN="Unga Reumatiker Region Norr":MAILTO:regionnorr@ungareumatiker.se
END:VEVENT
BEGIN:VEVENT
DTSTART;TZID=Europe/Stockholm:20231118T133000
DTEND;TZID=Europe/Stockholm:20231118T150000
DTSTAMP:20260421T124000
CREATED:20231004T083253Z
LAST-MODIFIED:20231004T083253Z
UID:8981-1700314200-1700319600@ungareumatiker.se
SUMMARY:Yin yoga med Unga Reumatiker Region Öst
DESCRIPTION:Välkommen på lugn och skön yoga!\nUnga Reumatiker bjuder in dig till yin yoga med instruktören Ida från yogastudion Essence of me (finns på Instagram). \nYogan kommer vara både på plats och online på Zoom\, länk skickas dagen innan. \nNär: 18/11 kl. 13.30-15\nVar: Sveavägen 63\, Stockholm \nAnmäl dina personuppgifter samt om du deltar på plats eller online\, senast 15/11 till vår mail: regionost@ungareumatiker.se \nYin yoga är en lugnande\, passiv yogaform där man stannar i varje position under en längre tid\, va 1-10 min.
URL:https://ungareumatiker.se/handelser/yin-yoga-med-unga-reumatiker-region-ost/
LOCATION:Essence of me\, Sveavägen 63\, Stockholm\, Sverige
ORGANIZER;CN="Unga Reumatiker Region %C3%96st":MAILTO:regionost@ungareumatiker.se
END:VEVENT
END:VCALENDAR