BEGIN:VCALENDAR
VERSION:2.0
PRODID:-//Unga Reumatiker - ECPv6.15.15//NONSGML v1.0//EN
CALSCALE:GREGORIAN
METHOD:PUBLISH
X-WR-CALNAME:Unga Reumatiker
X-ORIGINAL-URL:https://ungareumatiker.se
X-WR-CALDESC:Händelser för Unga Reumatiker
REFRESH-INTERVAL;VALUE=DURATION:PT1H
X-Robots-Tag:noindex
X-PUBLISHED-TTL:PT1H
BEGIN:VTIMEZONE
TZID:Europe/Stockholm
BEGIN:DAYLIGHT
TZOFFSETFROM:+0100
TZOFFSETTO:+0200
TZNAME:CEST
DTSTART:20230326T010000
END:DAYLIGHT
BEGIN:STANDARD
TZOFFSETFROM:+0200
TZOFFSETTO:+0100
TZNAME:CET
DTSTART:20231029T010000
END:STANDARD
BEGIN:DAYLIGHT
TZOFFSETFROM:+0100
TZOFFSETTO:+0200
TZNAME:CEST
DTSTART:20240331T010000
END:DAYLIGHT
BEGIN:STANDARD
TZOFFSETFROM:+0200
TZOFFSETTO:+0100
TZNAME:CET
DTSTART:20241027T010000
END:STANDARD
BEGIN:DAYLIGHT
TZOFFSETFROM:+0100
TZOFFSETTO:+0200
TZNAME:CEST
DTSTART:20250330T010000
END:DAYLIGHT
BEGIN:STANDARD
TZOFFSETFROM:+0200
TZOFFSETTO:+0100
TZNAME:CET
DTSTART:20251026T010000
END:STANDARD
END:VTIMEZONE
BEGIN:VEVENT
DTSTART;TZID=Europe/Stockholm:20240215T180000
DTEND;TZID=Europe/Stockholm:20240215T200000
DTSTAMP:20260421T172006
CREATED:20240131T091501Z
LAST-MODIFIED:20240131T091501Z
UID:9299-1708020000-1708027200@ungareumatiker.se
SUMMARY:Digital fika för dig som är intresserad av styrelsearbete med Unga Reumatiker Region Mitt
DESCRIPTION:Den 15/2 bjuder vi varmt in alla medlemmar som är nyfikna på vad styrelsearbete innebär till en digital fika mellan kl. 18-20 där du kan träffa oss som sitter i styrelsen nu och ställa frågor tlll oss.\n\n\n\nVänligen läs mer om träffen och anmäl dig genom formuläret! \n\n\nAnmäl dig senast den 7/2 om du vill ha fika. Det går även bra att anmäla sig fram till den 13/2. \n\n\nVill du kandidera till styrelsen kan du fylla i det här formuläret!
URL:https://ungareumatiker.se/handelser/digital-fika-for-dig-som-ar-intresserad-av-styrelsearbete-med-unga-reumatiker-region-mitt/
LOCATION:Digitalt
ORGANIZER;CN="Unga Reumatiker Region Mitt":MAILTO:regionmitt@ungareumatiker.se
END:VEVENT
END:VCALENDAR