BEGIN:VCALENDAR
VERSION:2.0
PRODID:-//Unga Reumatiker - ECPv6.15.15//NONSGML v1.0//EN
CALSCALE:GREGORIAN
METHOD:PUBLISH
X-WR-CALNAME:Unga Reumatiker
X-ORIGINAL-URL:https://ungareumatiker.se
X-WR-CALDESC:Händelser för Unga Reumatiker
REFRESH-INTERVAL;VALUE=DURATION:PT1H
X-Robots-Tag:noindex
X-PUBLISHED-TTL:PT1H
BEGIN:VTIMEZONE
TZID:Europe/Stockholm
BEGIN:DAYLIGHT
TZOFFSETFROM:+0100
TZOFFSETTO:+0200
TZNAME:CEST
DTSTART:20230326T010000
END:DAYLIGHT
BEGIN:STANDARD
TZOFFSETFROM:+0200
TZOFFSETTO:+0100
TZNAME:CET
DTSTART:20231029T010000
END:STANDARD
BEGIN:DAYLIGHT
TZOFFSETFROM:+0100
TZOFFSETTO:+0200
TZNAME:CEST
DTSTART:20240331T010000
END:DAYLIGHT
BEGIN:STANDARD
TZOFFSETFROM:+0200
TZOFFSETTO:+0100
TZNAME:CET
DTSTART:20241027T010000
END:STANDARD
BEGIN:DAYLIGHT
TZOFFSETFROM:+0100
TZOFFSETTO:+0200
TZNAME:CEST
DTSTART:20250330T010000
END:DAYLIGHT
BEGIN:STANDARD
TZOFFSETFROM:+0200
TZOFFSETTO:+0100
TZNAME:CET
DTSTART:20251026T010000
END:STANDARD
END:VTIMEZONE
BEGIN:VEVENT
DTSTART;TZID=Europe/Stockholm:20240706T130000
DTEND;TZID=Europe/Stockholm:20240706T160000
DTSTAMP:20260422T003432
CREATED:20240627T151715Z
LAST-MODIFIED:20240627T151947Z
UID:9678-1720270800-1720281600@ungareumatiker.se
SUMMARY:Open Art med Unga Reumatiker Region Mitt
DESCRIPTION:🌟Välkommen på OPEN ART med Region Mitt!🌟 \nFölj med andra som förstår hur det är att leva med en reumatisk sjukdom och gå på en rolig spännande konstutställning tillsammans! \nVi har bokat in en guide som berättar mer om konsten i utställningen\, och därefter tar vi en glass i solskenet utanför slottet 🍦☀️ \n🌼 När och var är aktiviteten? Den 6 juli kl. 13-16 i Örebro med start vid Järntorget. \n🌼 Aktiviteten är helt gratis! Vi bjuder på guidning och glass 🤩 Det finns också möjlighet att söka reseersättning i efterhand för buss/tågresa. Då är det viktigt att man sparar på kvittot! \n🌼 Sista anmälningsdag till aktiviteten där den 29/6! Det finns begränsat antal med platser så först till kvarn tillämpas. \nFormuläret till anmälan hittar ni här: forms.office.com/e/aN4a3tnA8L \nVi kommer också skicka ut en inbjudan till aktiviteten via mejl till er som har registrerat er för mejlutskick✨ \nOm ni har frågor eller funderingar är det bara att ni hör av er! Lättast att nå oss är via mejl regionmitt@ungareumatiker.se och vår discord 👋 \nHoppas vi ses! 🌟 / Mvh Styrelsen i Region Mitt
URL:https://ungareumatiker.se/handelser/open-art-med-unga-reumatiker-region-mitt/
LOCATION:Örebro
ORGANIZER;CN="Unga Reumatiker Region Mitt":MAILTO:regionmitt@ungareumatiker.se
END:VEVENT
BEGIN:VEVENT
DTSTART;VALUE=DATE:20240727
DTEND;VALUE=DATE:20240728
DTSTAMP:20260422T003432
CREATED:20240530T114019Z
LAST-MODIFIED:20240530T114019Z
UID:9535-1722038400-1722124799@ungareumatiker.se
SUMMARY:Save the Date: Liseberg med Unga Reumatiker Region Väst
DESCRIPTION:Mer information kommer
URL:https://ungareumatiker.se/handelser/save-the-date-liseberg-med-unga-reumatiker-region-vast/
LOCATION:Liseberg\, Göteborg\, Sverige
ORGANIZER;CN="Unga Reumatiker Region V%C3%A4st":MAILTO:regionvast@ungareumatiker.se
END:VEVENT
END:VCALENDAR