BEGIN:VCALENDAR
VERSION:2.0
PRODID:-//Unga Reumatiker - ECPv6.15.15//NONSGML v1.0//EN
CALSCALE:GREGORIAN
METHOD:PUBLISH
X-ORIGINAL-URL:https://ungareumatiker.se
X-WR-CALDESC:Händelser för Unga Reumatiker
REFRESH-INTERVAL;VALUE=DURATION:PT1H
X-Robots-Tag:noindex
X-PUBLISHED-TTL:PT1H
BEGIN:VTIMEZONE
TZID:Europe/Stockholm
BEGIN:DAYLIGHT
TZOFFSETFROM:+0100
TZOFFSETTO:+0200
TZNAME:CEST
DTSTART:20230326T010000
END:DAYLIGHT
BEGIN:STANDARD
TZOFFSETFROM:+0200
TZOFFSETTO:+0100
TZNAME:CET
DTSTART:20231029T010000
END:STANDARD
BEGIN:DAYLIGHT
TZOFFSETFROM:+0100
TZOFFSETTO:+0200
TZNAME:CEST
DTSTART:20240331T010000
END:DAYLIGHT
BEGIN:STANDARD
TZOFFSETFROM:+0200
TZOFFSETTO:+0100
TZNAME:CET
DTSTART:20241027T010000
END:STANDARD
BEGIN:DAYLIGHT
TZOFFSETFROM:+0100
TZOFFSETTO:+0200
TZNAME:CEST
DTSTART:20250330T010000
END:DAYLIGHT
BEGIN:STANDARD
TZOFFSETFROM:+0200
TZOFFSETTO:+0100
TZNAME:CET
DTSTART:20251026T010000
END:STANDARD
END:VTIMEZONE
BEGIN:VEVENT
DTSTART;TZID=Europe/Stockholm:20240803T110000
DTEND;TZID=Europe/Stockholm:20240803T170000
DTSTAMP:20260422T022807
CREATED:20240627T151917Z
LAST-MODIFIED:20240627T151917Z
UID:9680-1722682800-1722704400@ungareumatiker.se
SUMMARY:Alpackapromenad med Unga Reumatiker Region Mitt
DESCRIPTION:Följ med på alpackapromenad tillsammans med andra som förstår hur det är att leva med en reumatisk sjukdom! 🤩 \n🦙 När? Den 3 augusti kl. 11\n🦙 Var? Karlstad alpackagård \nVi promenerar med alpackor i den fina naturen och efteråt så blir vi bjudna på fika. Kommer bli superkul så häng med! ✨ \nFör mer information och hur du anmäler dig hittar du här: https://forms.office.com/e/9uFc53GDbK \nHoppas vi ses! 🩷 / Styrelsen i Region Mitt
URL:https://ungareumatiker.se/handelser/alpackapromenad-med-unga-reumatiker-region-mitt/
LOCATION:Karlstad Alpackagård\, Botorp 523\, Karlstad\, 655 91\, Sverige
ORGANIZER;CN="Unga Reumatiker Region Mitt":MAILTO:regionmitt@ungareumatiker.se
END:VEVENT
BEGIN:VEVENT
DTSTART;VALUE=DATE:20240811
DTEND;VALUE=DATE:20240812
DTSTAMP:20260422T022807
CREATED:20240807T074023Z
LAST-MODIFIED:20240807T074023Z
UID:9711-1723334400-1723420799@ungareumatiker.se
SUMMARY:Sista dagen att söka eller tipsa valberedningen
DESCRIPTION:Sök redan nu: Var med och ta ansvar för Unga Reumatiker\nGenom att vara med i riksstyrelsen får du möjlighet att påverka din och andra unga reumatikers vardag. På riksstämman kommer ombuden välja ordförande\, vice ordförande\, ledamöter och ersättare till riksstyrelsen. Även revisorer som granskar styrelsen och en valberedning som föreslår en ny styrelse till nästa riksstämma kommer väljas. På riksstämman väljs en grupp ombud som lägger fram ett förslag på ny valberedning. Är du intresserad av att vara med i valberedningen för 2025-2026 – kontakta din region så att de kan tipsa gruppen som lägger fram förslag på valberedning under riksstämman. \nFör att kunna bli en del av riksstyrelsen måste du vara över 18 år\, vara medlem i Unga Reumatiker och dela våra värderingar samt vara fri från betalningsanmärkningar. Är du intresserad av något av de olika uppdragen eller vill tipsa valberedningen om någon som du tycker borde väljas kan du göra det genom att fylla i formuläret: https://forms.office.com/e/Q09pRMKFD3. Sök eller skicka in din nominering så snart som möjligt\, dock senast 11 augusti! \n  \nOrdförande  \nOrdföranden kommer i genomsnitt lägga 6-8 timmar på uppdraget per vecka över tid. \nOrdförandes roll är att: \n\nLeda styrelsen under och mellan möten.\nRepresentera organisationen internt och externt.\n  Ha tät kontakt med Generalsekreteraren.\n\n\nVice ordförande  \nVice ordföranden kommer i genomsnitt lägga 4-6 timmar på uppdraget per vecka över tid. \nVice ordförandes roll är att: \n\nVara med i ett arbetsutskott tillsammans med ordförande.\nFörbereda inför och vara sekreterare under möten.\nHoppa in när inte ordförande kan delta.\n\n\nLedamot/ersättare  \nLedamöter kommer i genomsnitt lägga 2-4 timmar på uppdraget per vecka över tid. \nLedamöters roll är att: \n\nLäsa handlingar inför och komma förberedda på möten.\nDelta aktivt på möten.\nArbeta med tilldelade uppgifter mellan möten.\n\n\nRevisor  \nSom revisor är du med och granskar beslut\, bokföring och bokslut. \n\nValberedning  \nValberedningens roll är att: \n\nSamla in nomineringar till förtroendeuppdrag inför riksstämman\nIntervjua kandidater för de olika förtroendeuppdragen\nLägga fram ett förslag på ny styrelse och revisorer inför riksstämman
URL:https://ungareumatiker.se/handelser/sista-dagen-att-soka-eller-tipsa-valberedningen/
LOCATION:Digitalt
END:VEVENT
BEGIN:VEVENT
DTSTART;VALUE=DATE:20240812
DTEND;VALUE=DATE:20240817
DTSTAMP:20260422T022807
CREATED:20231214T103104Z
LAST-MODIFIED:20231214T103104Z
UID:9179-1723420800-1723852799@ungareumatiker.se
SUMMARY:Ungdomsläger
DESCRIPTION:Mer information kommer.
URL:https://ungareumatiker.se/handelser/ungdomslager-2/
LOCATION:Bosön\, Bosövägen 1\, Lidingö\, 181 47\, Sverige
END:VEVENT
BEGIN:VEVENT
DTSTART;TZID=Europe/Stockholm:20240813T180000
DTEND;TZID=Europe/Stockholm:20240813T200000
DTSTAMP:20260422T022807
CREATED:20240807T074123Z
LAST-MODIFIED:20240807T074123Z
UID:9713-1723572000-1723579200@ungareumatiker.se
SUMMARY:Digital motionsstuga
DESCRIPTION:Har du en idé eller ett förslag för hur fler unga reumatiker ska känna livsglädje och kunna uppfylla sina drömmar?\nAlla medlemmar i Unga Reumatiker har möjlighet att lämna in förslag och idéer som riksstämman fattar beslut om. Det betyder att du som medlem kan vara med och påverka vad Unga Reumatiker ska göra och tycka. \nSå här går du till väga att skriva ett förslag till stämman: \n\nKom på en idé eller ett förslag. Börja med att hitta en idé eller ett förslag på något som Unga Reumatiker kan göra eller tycka.\nGe en bakgrund. Koppla ditt förslag till ett problem eller en utmaning. Genom att ge en bakgrund ger du fler möjligheten att förstå vad det är du vill och varför det är viktigt att göra något åt det. Bakgrunden behöver inte vara ett visst antal tecken men försök att hålla förslaget på mindre än en A4a. Avsluta med att skriva ”därför föreslår jag”.\nPunktlista. Sammanfatta dina förslag i en punktlista där varje punkt börjar med ”att”. Stämman tar ställning till punkterna i förslaget\, därför är det viktigt att de är välformulerade.\n\nVill du bolla idéer med andra eller ha hjälp att formulera ditt förslag är du varmt välkommen att delta på den digitala motionsstugan 13 augusti. Motionsstugan kommer hållas på Unga Reumatikers Discord-server kl. 18-20\, alla medlemmar är välkomna att vara med! \nHar du skrivit ett förslag skickar du in det genom att mejla riksstyrelsen@ungareumatiker.se och döp mejlet till ”Motion”. Sista dagen att skicka in förslag är 25 augusti.
URL:https://ungareumatiker.se/handelser/digital-motionsstuga/
LOCATION:Digitalt
END:VEVENT
BEGIN:VEVENT
DTSTART;VALUE=DATE:20240825
DTEND;VALUE=DATE:20240826
DTSTAMP:20260422T022807
CREATED:20240807T074231Z
LAST-MODIFIED:20240807T075556Z
UID:9715-1724544000-1724630399@ungareumatiker.se
SUMMARY:Sista dagen att skicka in motioner
DESCRIPTION:Har du en idé eller ett förslag för hur fler unga reumatiker ska känna livsglädje och kunna uppfylla sina drömmar?\nAlla medlemmar i Unga Reumatiker har möjlighet att lämna in förslag och idéer som riksstämman fattar beslut om. Det betyder att du som medlem kan vara med och påverka vad Unga Reumatiker ska göra och tycka. \nHar du skrivit ett förslag skickar du in det genom att mejla riksstyrelsen@ungareumatiker.se och döp mejlet till ”Motion”. Sista dagen att skicka in förslag är 25 augusti.
URL:https://ungareumatiker.se/handelser/sista-dagen-att-skicka-in-motioner/
LOCATION:Digitalt
END:VEVENT
BEGIN:VEVENT
DTSTART;VALUE=DATE:20240830
DTEND;VALUE=DATE:20241104
DTSTAMP:20260422T022807
CREATED:20240827T092331Z
LAST-MODIFIED:20240827T092331Z
UID:9787-1724976000-1730678399@ungareumatiker.se
SUMMARY:Anmälan Stark Reumatiker-loppet
DESCRIPTION:Unga Reumatiker lanserar äntligen vårt otraditionella digitala lopp som är öppen för anmälan nu! \n12 oktober till 3 november pågår Unga Reumatikers otraditionella digitala Stark Reumatiker lopp där alla kan delta utifrån sina egna förutsättningar! Vår övertygelse är att allt är möjligt\, att det finns olika sätt att röra på sig och att all rörelse räknas. Att vara en stark reumatiker visar sig på olika sätt och det är endast din fantasi som sätter gränserna. \nMissa därför inte chansen att vara en del av det otraditionella loppet och bredda definitionen av rörelse! Det är dags att anmäla sig och säkra din plats bland andra starka reumatiker i en varm gemenskap. \nOavsett om du är en rutinerad stickare\, löpare\, målare\, simmare\, annan rörelseutövare eller nybörjare\, så lovar vi att det otraditionella loppet kommer att bli ett minne för livet. Ta med din kreativitet\, vilja och fantasi\, vi är med dig hela vägen från startlinjen till målgången! \nHar du frågor kan du kontakta projektledaren Elvira Skoglund genom att mejla till: elvira.skoglund@ungareumatiker.se \nAnmäl dig här:  app.eventlogic.se/shared/event_presentation/stark-reumatiker
URL:https://ungareumatiker.se/handelser/anmalan-stark-reumatiker-loppet/
LOCATION:Digitalt
END:VEVENT
BEGIN:VEVENT
DTSTART;TZID=Europe/Stockholm:20240831T100000
DTEND;TZID=Europe/Stockholm:20240831T150000
DTSTAMP:20260422T022807
CREATED:20240819T111630Z
LAST-MODIFIED:20240819T111630Z
UID:9770-1725098400-1725116400@ungareumatiker.se
SUMMARY:Spela golf med Unga Reumatiker Region Öst
DESCRIPTION:Välkommen till den ökande sporten golf! \nUnga Reumatiker Region Öst bjuder in dig till att få chansen att prova på golf\, vi bjuder på lunch och fika. \nAnmäl dina personuppgifter och specialkost till vår mail: regionost@ungareumatiker.se \nNär: 31/8 kl. 10-15 \nVar: Täby Golfklubb\, Stockholm \nVi återkommer på mejl med vägbeskrivning efter anmälning. \nGlöm inte packa kläder efter väder! \nHoppas vi ses!\n/ Styrelsen Unga Reumatiker Region Öst
URL:https://ungareumatiker.se/handelser/spela-golf-med-unga-reumatiker-region-ost/
LOCATION:Täby Golfklubb\, Skålhamra Gård\, Täby\, 187 70
ORGANIZER;CN="Unga Reumatiker Region %C3%96st":MAILTO:regionost@ungareumatiker.se
END:VEVENT
END:VCALENDAR