BEGIN:VCALENDAR
VERSION:2.0
PRODID:-//Unga Reumatiker - ECPv6.15.15//NONSGML v1.0//EN
CALSCALE:GREGORIAN
METHOD:PUBLISH
X-ORIGINAL-URL:https://ungareumatiker.se
X-WR-CALDESC:Händelser för Unga Reumatiker
REFRESH-INTERVAL;VALUE=DURATION:PT1H
X-Robots-Tag:noindex
X-PUBLISHED-TTL:PT1H
BEGIN:VTIMEZONE
TZID:Europe/Stockholm
BEGIN:DAYLIGHT
TZOFFSETFROM:+0100
TZOFFSETTO:+0200
TZNAME:CEST
DTSTART:20230326T010000
END:DAYLIGHT
BEGIN:STANDARD
TZOFFSETFROM:+0200
TZOFFSETTO:+0100
TZNAME:CET
DTSTART:20231029T010000
END:STANDARD
BEGIN:DAYLIGHT
TZOFFSETFROM:+0100
TZOFFSETTO:+0200
TZNAME:CEST
DTSTART:20240331T010000
END:DAYLIGHT
BEGIN:STANDARD
TZOFFSETFROM:+0200
TZOFFSETTO:+0100
TZNAME:CET
DTSTART:20241027T010000
END:STANDARD
BEGIN:DAYLIGHT
TZOFFSETFROM:+0100
TZOFFSETTO:+0200
TZNAME:CEST
DTSTART:20250330T010000
END:DAYLIGHT
BEGIN:STANDARD
TZOFFSETFROM:+0200
TZOFFSETTO:+0100
TZNAME:CET
DTSTART:20251026T010000
END:STANDARD
END:VTIMEZONE
BEGIN:VEVENT
DTSTART;VALUE=DATE:20240830
DTEND;VALUE=DATE:20241104
DTSTAMP:20260422T053439
CREATED:20240827T092331Z
LAST-MODIFIED:20240827T092331Z
UID:9787-1724976000-1730678399@ungareumatiker.se
SUMMARY:Anmälan Stark Reumatiker-loppet
DESCRIPTION:Unga Reumatiker lanserar äntligen vårt otraditionella digitala lopp som är öppen för anmälan nu! \n12 oktober till 3 november pågår Unga Reumatikers otraditionella digitala Stark Reumatiker lopp där alla kan delta utifrån sina egna förutsättningar! Vår övertygelse är att allt är möjligt\, att det finns olika sätt att röra på sig och att all rörelse räknas. Att vara en stark reumatiker visar sig på olika sätt och det är endast din fantasi som sätter gränserna. \nMissa därför inte chansen att vara en del av det otraditionella loppet och bredda definitionen av rörelse! Det är dags att anmäla sig och säkra din plats bland andra starka reumatiker i en varm gemenskap. \nOavsett om du är en rutinerad stickare\, löpare\, målare\, simmare\, annan rörelseutövare eller nybörjare\, så lovar vi att det otraditionella loppet kommer att bli ett minne för livet. Ta med din kreativitet\, vilja och fantasi\, vi är med dig hela vägen från startlinjen till målgången! \nHar du frågor kan du kontakta projektledaren Elvira Skoglund genom att mejla till: elvira.skoglund@ungareumatiker.se \nAnmäl dig här:  app.eventlogic.se/shared/event_presentation/stark-reumatiker
URL:https://ungareumatiker.se/handelser/anmalan-stark-reumatiker-loppet/
LOCATION:Digitalt
END:VEVENT
BEGIN:VEVENT
DTSTART;VALUE=DATE:20241006
DTEND;VALUE=DATE:20241007
DTSTAMP:20260422T053439
CREATED:20241001T120139Z
LAST-MODIFIED:20241001T120139Z
UID:9813-1728172800-1728259199@ungareumatiker.se
SUMMARY:Sista dagen att anmäla sig till Stickträff i Karlstad med Unga Reumatiker Region Mitt
DESCRIPTION:Nu har vi något roligt att dela med oss! 🤩 Vi har nämligen ordnat en stickträff där vi ska syssla med handarbete och mysa! ✨✨✨Kommer att bli supermysigt och kul så häng på! \nVi ordnar med garn och stickor\, fika och så äter vi lunch någonstans i närheten. Dessutom betalar vi för resan! Så kom som du är – inga förkunskaper om stickning behövs för vi lär ut grunderna\, eller varför inte ta med dig något annat du tycker om att syssla med? Allt handarbete och pyssel är välkomnat 💜 \nNär? Den 13 oktober kl.13 till ca 17\nVar? Clarion Hotel Plaza i Karlstad \nVi gör också aktiviteten i samband med Stark Reumatiker loppet så anmäl dig gärna till det! #StarkReumatiker #VemÄrStark #AllRörelseRäknas \nSista anmälningsdag är den 6/10 och först till kvarn tillämpas då platserna är begränsade så vänta inte med att anmäla dig 🤩 Länk till anmälan hittar du här: Stickträff i Karlstad med Unga Reumatiker (office.com) \nHoppas vi ses ☀️\n#UngaReumatiker #ViÄrInteVårSjukdom
URL:https://ungareumatiker.se/handelser/sista-dagen-att-anmala-sig-till-sticktraff-i-karlstad-med-unga-reumatiker-region-mitt/
LOCATION:Clarion Hotel Plaza\, Västra Torggatan 2\, Karlstad\, 65225\, Sverige
ORGANIZER;CN="Unga Reumatiker Region Mitt":MAILTO:regionmitt@ungareumatiker.se
END:VEVENT
BEGIN:VEVENT
DTSTART;VALUE=DATE:20241012
DTEND;VALUE=DATE:20241104
DTSTAMP:20260422T053439
CREATED:20240807T080726Z
LAST-MODIFIED:20240807T080726Z
UID:9717-1728691200-1730678399@ungareumatiker.se
SUMMARY:Save the Date - Stark Reumatiker
DESCRIPTION:Mer information kommer.
URL:https://ungareumatiker.se/handelser/save-the-date-stark-reumatiker/
LOCATION:Digitalt
END:VEVENT
BEGIN:VEVENT
DTSTART;TZID=Europe/Stockholm:20241013T130000
DTEND;TZID=Europe/Stockholm:20241013T170000
DTSTAMP:20260422T053439
CREATED:20241001T120101Z
LAST-MODIFIED:20241001T120101Z
UID:9810-1728824400-1728838800@ungareumatiker.se
SUMMARY:Stickträff i Karlstad med Unga Reumatiker Region Mitt
DESCRIPTION:Nu har vi något roligt att dela med oss! 🤩 Vi har nämligen ordnat en stickträff där vi ska syssla med handarbete och mysa! ✨✨✨Kommer att bli supermysigt och kul så häng på! \nVi ordnar med garn och stickor\, fika och så äter vi lunch någonstans i närheten. Dessutom betalar vi för resan! Så kom som du är – inga förkunskaper om stickning behövs för vi lär ut grunderna\, eller varför inte ta med dig något annat du tycker om att syssla med? Allt handarbete och pyssel är välkomnat 💜 \nNär? Den 13 oktober kl.13 till ca 17\nVar? Clarion Hotel Plaza i Karlstad \nVi gör också aktiviteten i samband med Stark Reumatiker loppet så anmäl dig gärna till det! #StarkReumatiker #VemÄrStark #AllRörelseRäknas \nSista anmälningsdag är den 6/10 och först till kvarn tillämpas då platserna är begränsade så vänta inte med att anmäla dig 🤩 Länk till anmälan hittar du här: Stickträff i Karlstad med Unga Reumatiker (office.com) \nHoppas vi ses ☀️\n#UngaReumatiker #ViÄrInteVårSjukdom
URL:https://ungareumatiker.se/handelser/sticktraff-i-karlstad-med-unga-reumatiker-region-mitt/
LOCATION:Clarion Hotel Plaza\, Västra Torggatan 2\, Karlstad\, 65225\, Sverige
ORGANIZER;CN="Unga Reumatiker Region Mitt":MAILTO:regionmitt@ungareumatiker.se
END:VEVENT
BEGIN:VEVENT
DTSTART;TZID=Europe/Stockholm:20241020T190000
DTEND;TZID=Europe/Stockholm:20241020T210000
DTSTAMP:20260422T053439
CREATED:20241014T125309Z
LAST-MODIFIED:20241014T125309Z
UID:9832-1729450800-1729458000@ungareumatiker.se
SUMMARY:Häng med och spela spel på Unga Reumatikers Discord
DESCRIPTION:Nu har samtliga styrelser i Unga Reumatiker planerat in en spelträff. Vi skrattade så mycket sist så vi hade ont i käkarna och tror vi kommer ha minst lika kul igen😂😂 \nVar är spelträffen? Discord\nNär? Kl. 19-21 på söndag den 20:e oktober \nLänk till Discord; https://discord.com/channels/1143590690866090157/1154806255056080906 (kom ihåg att skapa ett Discord-konto och gå med i Unga Reumatiker några dagar innan om du inte redan gjort det) \nHoppas vi ses!😄💖
URL:https://ungareumatiker.se/handelser/hang-med-och-spela-spel-pa-unga-reumatikers-discord/
LOCATION:Digitalt
END:VEVENT
BEGIN:VEVENT
DTSTART;VALUE=DATE:20241025
DTEND;VALUE=DATE:20241028
DTSTAMP:20260422T053439
CREATED:20231214T103206Z
LAST-MODIFIED:20231214T103206Z
UID:9182-1729814400-1730073599@ungareumatiker.se
SUMMARY:Unga Reumatikers Riksstämma
DESCRIPTION:Mer information kommer.
URL:https://ungareumatiker.se/handelser/unga-reumatikers-riksstamma/
END:VEVENT
END:VCALENDAR