BEGIN:VCALENDAR
VERSION:2.0
PRODID:-//Unga Reumatiker - ECPv6.15.15//NONSGML v1.0//EN
CALSCALE:GREGORIAN
METHOD:PUBLISH
X-ORIGINAL-URL:https://ungareumatiker.se
X-WR-CALDESC:Händelser för Unga Reumatiker
REFRESH-INTERVAL;VALUE=DURATION:PT1H
X-Robots-Tag:noindex
X-PUBLISHED-TTL:PT1H
BEGIN:VTIMEZONE
TZID:Europe/Stockholm
BEGIN:DAYLIGHT
TZOFFSETFROM:+0100
TZOFFSETTO:+0200
TZNAME:CEST
DTSTART:20240331T010000
END:DAYLIGHT
BEGIN:STANDARD
TZOFFSETFROM:+0200
TZOFFSETTO:+0100
TZNAME:CET
DTSTART:20241027T010000
END:STANDARD
BEGIN:DAYLIGHT
TZOFFSETFROM:+0100
TZOFFSETTO:+0200
TZNAME:CEST
DTSTART:20250330T010000
END:DAYLIGHT
BEGIN:STANDARD
TZOFFSETFROM:+0200
TZOFFSETTO:+0100
TZNAME:CET
DTSTART:20251026T010000
END:STANDARD
BEGIN:DAYLIGHT
TZOFFSETFROM:+0100
TZOFFSETTO:+0200
TZNAME:CEST
DTSTART:20260329T010000
END:DAYLIGHT
BEGIN:STANDARD
TZOFFSETFROM:+0200
TZOFFSETTO:+0100
TZNAME:CET
DTSTART:20261025T010000
END:STANDARD
END:VTIMEZONE
BEGIN:VEVENT
DTSTART;VALUE=DATE:20250529
DTEND;VALUE=DATE:20250602
DTSTAMP:20260422T131741
CREATED:20250205T150249Z
LAST-MODIFIED:20250228T085213Z
UID:9999-1748476800-1748822399@ungareumatiker.se
SUMMARY:Småbarnsläger
DESCRIPTION:Under 2025 anordnar Unga Reumatiker återigen vårt populära småbarnsläger! Vi samlas för en helg med gemenskap\, lekar\, föreläsningar och massa skoj och bus! \nLägret vänder sig till medlemmar i åldern 0-6 år och en närstående vuxen. Du behöver vara medlem i Unga Reumatiker för att kunna delta på lägret. Deltagaravgiften är 400 kronor per person (om det är en deltagare och en medföljande vuxen är den totala kostnaden 800 kronor). I kostnaden för småbarnslägret ingår resor\, mat\, boende och alla aktiviteter under helgen. \nÅrets läger är 29 maj – 1 juni och kommer hållas tillsammans med barnlägret på Ädelfors Folkhögskola utanför Vetlanda. \nOBS! Nytt för i år är att först till kvarn gäller samt att anmälan till lägret är bindande.  \n  \nANMÄL DIG HÄR\n  \nHar du frågor kan du kontakta vårt kansli på: kansliet@ungareumatiker.se eller ringa oss på 08-6058270
URL:https://ungareumatiker.se/handelser/smabarnslager/
LOCATION:Ädelfors Folkhögskola\, Kunskapens väg 3\, Holsbybrunn\, 574 53\, Sverige
END:VEVENT
BEGIN:VEVENT
DTSTART;VALUE=DATE:20250529
DTEND;VALUE=DATE:20250602
DTSTAMP:20260422T131741
CREATED:20250205T150401Z
LAST-MODIFIED:20250228T085332Z
UID:10002-1748476800-1748822399@ungareumatiker.se
SUMMARY:Barnläger
DESCRIPTION:Under 2025 anordnar Unga Reumatiker återigen vårt populära barnläger! Vi samlas för en helg med gemenskap\, lekar\, föreläsningar och massa skoj och bus! \nLägret vänder sig till medlemmar i åldern 7-13 år och en närstående vuxen. Du behöver vara medlem i Unga Reumatiker för att kunna delta på lägret. Deltagaravgiften är 400 kronor per person (om det är en deltagare och en medföljande vuxen är den totala kostnaden 800 kronor). I kostnaden för småbarnslägret ingår resor\, mat\, boende och alla aktiviteter under helgen. \nÅrets läger är 29 maj – 1 juni och kommer hållas tillsammans med småbarnslägret på Ädelfors Folkhögskola utanför Vetlanda. \nOBS! Nytt för i år är att först till kvarn gäller samt att anmälan till lägret är bindande.  \n  \nANMÄL DIG HÄR\n  \nHar du frågor kan du kontakta vårt kansli på: kansliet@ungareumatiker.se eller ringa oss på 08-6058270
URL:https://ungareumatiker.se/handelser/barnlager/
LOCATION:Ädelfors Folkhögskola\, Kunskapens väg 3\, Holsbybrunn\, 574 53\, Sverige
END:VEVENT
END:VCALENDAR