BEGIN:VCALENDAR
VERSION:2.0
PRODID:-//Unga Reumatiker - ECPv6.15.15//NONSGML v1.0//EN
CALSCALE:GREGORIAN
METHOD:PUBLISH
X-ORIGINAL-URL:https://ungareumatiker.se
X-WR-CALDESC:Händelser för Unga Reumatiker
REFRESH-INTERVAL;VALUE=DURATION:PT1H
X-Robots-Tag:noindex
X-PUBLISHED-TTL:PT1H
BEGIN:VTIMEZONE
TZID:Europe/Stockholm
BEGIN:DAYLIGHT
TZOFFSETFROM:+0100
TZOFFSETTO:+0200
TZNAME:CEST
DTSTART:20240331T010000
END:DAYLIGHT
BEGIN:STANDARD
TZOFFSETFROM:+0200
TZOFFSETTO:+0100
TZNAME:CET
DTSTART:20241027T010000
END:STANDARD
BEGIN:DAYLIGHT
TZOFFSETFROM:+0100
TZOFFSETTO:+0200
TZNAME:CEST
DTSTART:20250330T010000
END:DAYLIGHT
BEGIN:STANDARD
TZOFFSETFROM:+0200
TZOFFSETTO:+0100
TZNAME:CET
DTSTART:20251026T010000
END:STANDARD
BEGIN:DAYLIGHT
TZOFFSETFROM:+0100
TZOFFSETTO:+0200
TZNAME:CEST
DTSTART:20260329T010000
END:DAYLIGHT
BEGIN:STANDARD
TZOFFSETFROM:+0200
TZOFFSETTO:+0100
TZNAME:CET
DTSTART:20261025T010000
END:STANDARD
END:VTIMEZONE
BEGIN:VEVENT
DTSTART;TZID=Europe/Stockholm:20250912T180000
DTEND;TZID=Europe/Stockholm:20250914T130000
DTSTAMP:20260422T180514
CREATED:20250627T130505Z
LAST-MODIFIED:20250627T130505Z
UID:11328-1757700000-1757854800@ungareumatiker.se
SUMMARY:Engagemangshelgen
DESCRIPTION:Om Unga Reumatiker \nUnga Reumatiker är en demokratisk\, ideell organisation som är partipolitiskt och religiöst obunden\, och arbetar utifrån demokratiska\, feministiska\, normkritiska\, antifunkofobiska och antirasistiska principer. Vi arbetar för att barn och unga med reumatisk sjukdom ska känna livsglädje och kunna uppfylla sina drömmar. Detta gör vi genom att skapa mötesplatser\, sprida kunskap\, driva opinion och bidra till forskning. Unga Reumatiker blev självständiga 1994 och har i dag drygt 1200 medlemmar mellan 0–30 år. \nEngagemangshelgen 2025 \nHelgen 12-14 september 2025 är det dags för vår engagemangshelg! Syftet med helgen är att medlemmar träffas med syfte att öka engagemanget inom organisationen. Vi vill också ge våra medlemmar en helg där de får lära känna andra engagerade inom organisationen. Under engagemangshelgen kommer deltagarna få ta del av ett antal aktiviteter och pass\, med fokus på gemenskapshöjande aktiviteter\, engagemang\, och möjlighet att träffa medlemmar i olika åldrar. \nMålgruppen för engagemangshelgen är Unga Reumatikers medlemmar som är engagerade eller vill engagera sig inom organisationen. Medlemmarna är barn och unga vuxna mellan 0–30 år. Med helgen vill vi öppna upp möjligheten för våra medlemmar att engagera sig\, därför riktar den sig både till de som sedan tidigare är engagerade och till de som vill engagera sig för första gången. \nEngagemangshelgen är kostnadsfri – vi bjuder på resa\, boende\, mat och aktiviteter. \nBli medlem och anmäl dig senast den 15 augusti\, så ses vi där! Bli medlem här: https://ungareumatiker.se/bli-medlem/ \nANMÄLAN ÖPPNAR 7 JULI
URL:https://ungareumatiker.se/handelser/engagemangshelgen2025/
LOCATION:Kansliet\, Arenavägen 47\, Stockholm\, 121 77\, Sverige
END:VEVENT
END:VCALENDAR